BEGIN:VCALENDAR
VERSION:2.0
PRODID:-//https://giardinigonzaga.comune.mantova.it///NONSGML kigkonsult.se iCalcreator 2.10.15//
METHOD:PUBLISH
BEGIN:VEVENT
UID:20260423T220329CEST-2081ZELv0d@https://giardinigonzaga.comune.mantova.i
 t/
DTSTAMP:20260423T200329Z
DESCRIPTION:IL CINEMA D'ESSAI SI RIUNISCE A MANTOVADAL 5 ALL'8 OTTOBRE GLI 
 INCONTRI DELLA FICEDal 5 all'8 ottobre 2015 è in programma a Mantova la qu
 indicesima edizione degli Incontri del Cinema d'Essai Gli Incontri del Cin
 ema d'Essai\, promossi dalla FICE\, Federazione Italiana Cinema d'Essai\, 
 sono il principale appuntamento professionale del cinema di qualità\, al q
 uale partecipano circa seicento professionisti del settore e dove\, con an
 teprime\, trailer e l'intervento di autori e interpreti\, vengono presenta
 ti i film dei prossimi mesi. Sedi della manifestazione sono la Multisala A
 riston\, il Cinema del Carbone\, il Teatro Bibiena\, il Ridotto del Teatro
  Sociale.Gli Incontri del Cinema d'Essai sono nati nel 2001 con l'obiettiv
 o di riunire tutti coloro che sono impegnati nella diffusione del cinema d
 i qualità e offrire l'occasione non solo di vedere i film in uscita\, ma a
 nche di dialogare e confrontarsi. &nbsp\;Per tutte le informazioni necessa
 rie consulta il sito www.fice.it
DTSTART:20151005T125819Z
DTEND:20151008T145819Z
LOCATION:Centro storico (Centro storico)
SUMMARY:Incontri del Cinema d'Essai 
END:VEVENT
END:VCALENDAR
