BEGIN:VCALENDAR
VERSION:2.0
PRODID:-//https://giardinigonzaga.comune.mantova.it///NONSGML kigkonsult.se iCalcreator 2.10.15//
METHOD:PUBLISH
BEGIN:VEVENT
UID:20260423T184237CEST-82062L4Hvv@https://giardinigonzaga.comune.mantova.i
 t/
DTSTAMP:20260423T164237Z
DESCRIPTION:&nbsp\;Cine Arena BarattaPer il quarto anno il cinema all'apert
 o sarà allestito presso il cortile della biblioteca comunale Baratta in Co
 rso Garibaldi 88 a Mantova.Si ricorda che le proiezioni inizieranno alle 2
 1:30 nel mese di luglio e alle 21:15 nel mese di agosto. La cassa aprirà c
 irca 30' prima. In caso di maltempo annunciato se si verificano le condizi
 oni tecniche è possibile che la proiezione venga spostata alla Multisala A
 riston. L'infoline 3341438018 potrà fornire informazioni al riguardo. Se u
 si WhatsApp puoi anche iscriverti al servizio che ti invierà tutte le news
  in tempo reale. Inserisci il nostro numero nella tua rubrica e mandaci un
  messaggino 'attivami'\, sarai inserito nella nostra news list. Per chi è 
 già iscritto basterà mandare 'cancellami' e sarete cancellati.Buona vision
 e.ANTEPRIME Mercoledì 12 agosto sarà la volta dell'attesissimo ANT-MAN il 
 nuovo film dei Marvel Studios\, che porta per la prima volta sul grande sc
 hermo uno dei personaggi originali più noti dei Marvel Comics apparso fin 
 dalle origini nel gruppo degli Avengers. Pochi giorni ed il 18 agosto sarà
  la volta di OPERAZIONE U.N.C.L.E. film in uscita sugli schermi nazionali 
 il 2 settembre\, con Hugh Grant ambientato negli anni della Guerra Fredda\
 , nei panni di un agente della CIA Napoleon Solo assieme a quello del KGB 
 Illya Kuryakin\, constretti a mettere da parte le ostilità di vecchia data
  e allearsi per eliminare una misteriosa organizzazione criminale internaz
 ionale.Il 19 agosto immediatamente il film dell'estate 2015\, MISSION IMPO
 SSIBILE ROUGE NATION\, il quinto capitolo della saga con Tom Cruise che\, 
 come anticipato in tutti i trailer e spoiler in circolazione\, si preannun
 cia altamente spettacolare ed emozionante vista la determinazione maniacal
 e di Cruise per non usare stunt di appoggio o sostituzione nelle scene più
  pericolose. Trattandosi di PRIMA VISIONE il film sarà in programmazione d
 al 19 al 23 agosto\, ogni sera alle ore 21:15.Si arriverà così all'ultimo 
 giorno di programmazione dell'Arena estiva Baratta\, il 27 agosto con l'al
 tro attesissimo film\, in particolare dai giovani\, MINIONS alla ricerca d
 isperata di un nuovo padrone in giro per il mondo\, che gli eviti l'annien
 tamento.Dal 12 agosto\, in contemporanea con ANT MAN parte al Baratta la P
 ROMOZIONE CINEMA FERRAGOSTANA\, puntuali al cinema ai primi 10 spettatori 
 verrà consegnato un buono riduzione valido sino al 30 settembre 2015\, con
  esclusione delle sole anteprime\, valido e utilizzabile in tutti e tre i 
 cinema\, Baratta\, sino 27 agosto\, Ariston dal 28 agosto e Cinecity. Un b
 uona occasione per arrivare primi al cinema. Apertura Baratta dalle ore 20
 :45.Tutte le prime visioni e le anteprime avranno il costo del biglietto n
 ormale a 7\,50 per gli interi e 5\,50 per i ridotti\, e l'ingresso sarà si
 no ad esaurimento dei posti. Orario apertura dell'arena ore 20:45\, inizio
  film alle ore 21:15.Informazioni allo 3341438018. Iscrizione alle news in
 viando 'attivami' con la app di Whatsapp allo stesso numero.PER IL PROGRAM
 MA DEGLI APPUNTAMENTI DELLA RASSEGNA ESTIVA 2015 CLICCA QUI&nbsp\;Il progr
 amma potrebbe subire variazioni per cause di forza maggioreArena estiva Ba
 ratta Mantova\, Via Garibaldi 88 46100 Mantovainfoline: 334 1438018 serviz
 io Whatsapp\, manda - attivami - e sarai inserito nelle News\, invia - can
 cellami - e sarai cancellato.la mail : cinearenaestiva@aristonmantova.it i
 l web: http://www.cineview.it/index.php?id_menu=131Facebook: https://www.f
 acebook.com/cinearenaestivamantovaGoogle+: Arena Estiva Baratta&nbsp\;
DTSTART:20150707T182100Z
DTEND:20150827T202103Z
LOCATION:Biblioteca Baratta (Corso Giuseppe Garibaldi\, 88\, 46100 Mantova 
 MN\, Italia)
SUMMARY:Cine Arena Baratta 
END:VEVENT
END:VCALENDAR
