BEGIN:VCALENDAR
VERSION:2.0
PRODID:-//https://giardinigonzaga.comune.mantova.it///NONSGML kigkonsult.se iCalcreator 2.10.15//
METHOD:PUBLISH
BEGIN:VEVENT
UID:20260423T220232CEST-3098Vgn1ne@https://giardinigonzaga.comune.mantova.i
 t/
DTSTAMP:20260423T200232Z
DESCRIPTION:Tanto cinema in città dal 19 al 24 agosto con l'ottava edizione
  del MantovaFilmFest\, dedicata a Claudia Cardinale. Più di 30 film per 60
  proiezioni\, tra incontri\, opere prime\, documentari ed eventi speciali.
 La proiezioni saranno al Cinema Mignon\, via Benzoni 22 (Mantova) telefono
  0376 366233 (arena estiva e sala interna) e al Conservatorio di musica Lu
 cio Campiani\, via della Conciliazione 33 (Mantova) telelefono 0376/324636
  (chiostro e auditorium).Iscrizioni\, informazioni e programma disponibili
  dal 4 agosto 2015. La partecipazione alla rassegna è regolata da una iscr
 izione (30 euro) che consente il libero accesso agli spettacoli fino ad es
 aurimento dei posti disponibili. Ciascun iscritto avrà diritto ad esprimer
 e il proprio giudizio sul miglior film opera prima in concorso attraverso 
 l'apposita cartolina-voto. Il vincitore sarà proclamato lunedì 24 agosto n
 el corso della serata conclusiva. La registrazione può essere effettuata p
 resso al Cinema Mignon\, al Conservatorio Campiani\, all'edicola dei porti
 ci di piazza Erbe.Per chi fosse interessato a dare una mano all'organizzaz
 ione e alla buona riuscita della manifestazione può contattare l'associazi
 one al numero 334.8179533 oppure via mail all'indirizzo: info@mantovafilmf
 est.comPer il programma completo : www.mantovafilmfestival.com
DTSTART:20150819T091401Z
DTEND:20150824T111401Z
LOCATION:Centro storico (Centro storico)
SUMMARY:MantovaFilmFest 2015
END:VEVENT
END:VCALENDAR
