BEGIN:VCALENDAR
VERSION:2.0
PRODID:-//https://giardinigonzaga.comune.mantova.it///NONSGML kigkonsult.se iCalcreator 2.10.15//
METHOD:PUBLISH
BEGIN:VEVENT
UID:20260423T220610CEST-8078GtVAvS@https://giardinigonzaga.comune.mantova.i
 t/
DTSTAMP:20260423T200610Z
DESCRIPTION:Sotto le stelle del cinemaDa luglio ad agosto 2015 presso l'ARE
 NA ESTIVA CINEMA MIGNON\, via Benzoni 22 a Mantova\, ritorna la rassegna e
 stiva degli spettacoli all'aperto\, le proiezioni iniziano alle ore 21.30:
  le notti cinematografiche mantovane in versione digitale nella magica dim
 ensione dolby stereo.MIGNON CINESTATE 2015: IN &amp\; OUTIn sala e all'ape
 rto: ogni sera due possibilità\; due film\, una sola biglietteria\, un uni
 co prezzo di ingresso ridotto per tutti. La stessa tecnologia digitale in 
 dolby\, stessa accoglienza.E' l'offerta del mignon per questa estate\, un'
 offerta che consente di scegliere ogni giorno tra due programmazioni: una 
 all'interno\, con aria condizionata\, e un'altra all'aperto\, dove il fasc
 ino del cinema si rinnova magicamente su di un grande schermo sotto le ste
 lle.Ingresso unico 5 euro\, ridotto 4 euro per gli Amici del MignonIl prog
 ramma potrà subire variazioni per cause di forza maggioreIn caso di maltem
 po le proiezioni sono al chiusoQui il programma completo&nbsp\;Infotel. 03
 76 366233www.cinemamignon.com
DTSTART:20150630T111715Z
DTEND:20150831T131715Z
LOCATION:Cinema Mignon ()
SUMMARY:Cinema estivo al Mignon 2015
END:VEVENT
END:VCALENDAR
